BEGIN:VCALENDAR
VERSION:2.0
PRODID:-//hacksw/handcal//NONSGML v1.0//EN
CALSCALE:GREGORIAN
BEGIN:VEVENT
DTEND:20260910T230000Z
UID:69e6c9eb20edb
DTSTAMP:20260421T015051Z
LOCATION:50769 Köln
DESCRIPTION:
URL;VALUE=URI:
SUMMARY:Sportscheck Run Köln
DTSTART:20260910T230000Z
END:VEVENT
END:VCALENDAR
An internal server error occurred.