BEGIN:VCALENDAR
VERSION:2.0
PRODID:-//hacksw/handcal//NONSGML v1.0//EN
CALSCALE:GREGORIAN
BEGIN:VEVENT
DTEND:20260604T230000Z
UID:69e58b2a68fff
DTSTAMP:20260420T031050Z
LOCATION:50769 Köln
DESCRIPTION:
URL;VALUE=URI:
SUMMARY:Stadionlauf Köln
DTSTART:20260604T230000Z
END:VEVENT
END:VCALENDAR
An internal server error occurred.