BEGIN:VCALENDAR
VERSION:2.0
PRODID:-//hacksw/handcal//NONSGML v1.0//EN
CALSCALE:GREGORIAN
BEGIN:VEVENT
DTEND:20260530T230000Z
UID:69e5e228a4fc0
DTSTAMP:20260420T092200Z
LOCATION:50769 Köln
DESCRIPTION:
URL;VALUE=URI:
SUMMARY:Swim & Run Köln
DTSTART:20260530T230000Z
END:VEVENT
END:VCALENDAR
An internal server error occurred.