BEGIN:VCALENDAR
VERSION:2.0
PRODID:-//hacksw/handcal//NONSGML v1.0//EN
CALSCALE:GREGORIAN
BEGIN:VEVENT
DTEND:20260516T230000Z
UID:69e54fae3565f
DTSTAMP:20260419T225702Z
LOCATION:40213 Düsseldorf
DESCRIPTION:
URL;VALUE=URI:
SUMMARY:Brückenlauf Düsseldorf
DTSTART:20260516T230000Z
END:VEVENT
END:VCALENDAR
An internal server error occurred.