BEGIN:VCALENDAR
VERSION:2.0
PRODID:-//hacksw/handcal//NONSGML v1.0//EN
CALSCALE:GREGORIAN
BEGIN:VEVENT
DTEND:20260703T230000Z
UID:69e97288ae2bf
DTSTAMP:20260423T021448Z
LOCATION:2165 Drasenhofen
DESCRIPTION:
URL;VALUE=URI:
SUMMARY:Grenzlandlauf Drasenhofen
DTSTART:20260703T230000Z
END:VEVENT
END:VCALENDAR
An internal server error occurred.