BEGIN:VCALENDAR
VERSION:2.0
PRODID:-//hacksw/handcal//NONSGML v1.0//EN
CALSCALE:GREGORIAN
BEGIN:VEVENT
DTEND:20260626T230000Z
UID:69e611ea6315a
DTSTAMP:20260420T124546Z
LOCATION:2274 Rabensburg
DESCRIPTION:
URL;VALUE=URI:
SUMMARY:Lauf Rabensburg
DTSTART:20260626T230000Z
END:VEVENT
END:VCALENDAR
An internal server error occurred.