BEGIN:VCALENDAR
VERSION:2.0
PRODID:-//hacksw/handcal//NONSGML v1.0//EN
CALSCALE:GREGORIAN
BEGIN:VEVENT
DTEND:20260529T230000Z
UID:69e8122753e61
DTSTAMP:20260422T011119Z
LOCATION:2232 Deutsch Wagram
DESCRIPTION:
URL;VALUE=URI:
SUMMARY:Deutsch Wagramer Lauftag
DTSTART:20260529T230000Z
END:VEVENT
END:VCALENDAR
An internal server error occurred.