BEGIN:VCALENDAR
VERSION:2.0
PRODID:-//hacksw/handcal//NONSGML v1.0//EN
CALSCALE:GREGORIAN
BEGIN:VEVENT
DTEND:20260424T230000Z
UID:69e77018acb90
DTSTAMP:20260421T133952Z
LOCATION:2273 Hohenau
DESCRIPTION:
URL;VALUE=URI:
SUMMARY:Hohenauer Aulauf
DTSTART:20260424T230000Z
END:VEVENT
END:VCALENDAR
An internal server error occurred.