BEGIN:VCALENDAR
VERSION:2.0
PRODID:-//hacksw/handcal//NONSGML v1.0//EN
CALSCALE:GREGORIAN
BEGIN:VEVENT
DTEND:20260619T230000Z
UID:69e5f1a036412
DTSTAMP:20260420T102800Z
LOCATION:4802 Ebensee
DESCRIPTION:
URL;VALUE=URI:
SUMMARY:Traunsee Halbmarathon
DTSTART:20260619T230000Z
END:VEVENT
END:VCALENDAR
An internal server error occurred.