BEGIN:VCALENDAR
VERSION:2.0
PRODID:-//hacksw/handcal//NONSGML v1.0//EN
CALSCALE:GREGORIAN
BEGIN:VEVENT
DTEND:20260916T230000Z
UID:69e8121621d4f
DTSTAMP:20260422T011102Z
LOCATION:1010 Wien
DESCRIPTION:
URL;VALUE=URI:
SUMMARY:erste bank vienna night run
DTSTART:20260916T230000Z
END:VEVENT
END:VCALENDAR
An internal server error occurred.