BEGIN:VCALENDAR
VERSION:2.0
PRODID:-//hacksw/handcal//NONSGML v1.0//EN
CALSCALE:GREGORIAN
BEGIN:VEVENT
DTEND:20261003T230000Z
UID:69e6d1eda4989
DTSTAMP:20260421T022501Z
LOCATION:50933 Köln
DESCRIPTION:
URL;VALUE=URI:
SUMMARY:Köln Marathon
DTSTART:20261003T230000Z
END:VEVENT
END:VCALENDAR
An internal server error occurred.