BEGIN:VCALENDAR
VERSION:2.0
PRODID:-//hacksw/handcal//NONSGML v1.0//EN
CALSCALE:GREGORIAN
BEGIN:VEVENT
DTEND:20260530T230000Z
UID:69ed525e0a17d
DTSTAMP:20260426T004638Z
LOCATION:1020 Wien
DESCRIPTION:
URL;VALUE=URI:
SUMMARY:Österreichischer Frauenlauf Wien
DTSTART:20260530T230000Z
END:VEVENT
END:VCALENDAR
An internal server error occurred.