BEGIN:VCALENDAR
VERSION:2.0
PRODID:-//hacksw/handcal//NONSGML v1.0//EN
CALSCALE:GREGORIAN
BEGIN:VEVENT
DTEND:20260904T230000Z
UID:69e65fc299dae
DTSTAMP:20260420T181754Z
LOCATION:23769 Fehmarn
DESCRIPTION:
URL;VALUE=URI:
SUMMARY:Fehmarn-Marathon
DTSTART:20260904T230000Z
END:VEVENT
END:VCALENDAR
An internal server error occurred.