BEGIN:VCALENDAR
VERSION:2.0
PRODID:-//hacksw/handcal//NONSGML v1.0//EN
CALSCALE:GREGORIAN
BEGIN:VEVENT
DTEND:20260801T230000Z
UID:69e720f9e84b4
DTSTAMP:20260421T080217Z
LOCATION:8573 Kainach bei Voitsberg
DESCRIPTION:
URL;VALUE=URI:
SUMMARY:Kainacher Bergmarathon
DTSTART:20260801T230000Z
END:VEVENT
END:VCALENDAR
An internal server error occurred.