BEGIN:VCALENDAR
VERSION:2.0
PRODID:-//hacksw/handcal//NONSGML v1.0//EN
CALSCALE:GREGORIAN
BEGIN:VEVENT
DTEND:20260724T230000Z
UID:69e9567ed11c5
DTSTAMP:20260423T001510Z
LOCATION:3144 Wilhelmsburg
DESCRIPTION:
URL;VALUE=URI:
SUMMARY:Wilhelmsburger Stadtlauf
DTSTART:20260724T230000Z
END:VEVENT
END:VCALENDAR
An internal server error occurred.