BEGIN:VCALENDAR
VERSION:2.0
PRODID:-//hacksw/handcal//NONSGML v1.0//EN
CALSCALE:GREGORIAN
BEGIN:VEVENT
DTEND:20261017T230000Z
UID:69e73ac6d829c
DTSTAMP:20260421T095222Z
LOCATION:5360 St. Wolfgang
DESCRIPTION:
URL;VALUE=URI:
SUMMARY:Salzkammergut Marathon
DTSTART:20261016T230000Z
END:VEVENT
END:VCALENDAR
An internal server error occurred.