BEGIN:VCALENDAR
VERSION:2.0
PRODID:-//hacksw/handcal//NONSGML v1.0//EN
CALSCALE:GREGORIAN
BEGIN:VEVENT
DTEND:20260704T230000Z
UID:69e670a677db2
DTSTAMP:20260420T192958Z
LOCATION:6481 Mandarfen
DESCRIPTION:
URL;VALUE=URI:
SUMMARY:Gletschermarathon Pitztal
DTSTART:20260704T230000Z
END:VEVENT
END:VCALENDAR
An internal server error occurred.