BEGIN:VCALENDAR
VERSION:2.0
PRODID:-//hacksw/handcal//NONSGML v1.0//EN
CALSCALE:GREGORIAN
BEGIN:VEVENT
DTEND:20260717T230000Z
UID:69e62c797c529
DTSTAMP:20260420T143905Z
LOCATION:6456 Gurgl
DESCRIPTION:
URL;VALUE=URI:
SUMMARY:Gletscher Trailrun
DTSTART:20260715T230000Z
END:VEVENT
END:VCALENDAR
An internal server error occurred.