BEGIN:VCALENDAR
VERSION:2.0
PRODID:-//hacksw/handcal//NONSGML v1.0//EN
CALSCALE:GREGORIAN
BEGIN:VEVENT
DTEND:20260529T230000Z
UID:69e569747e5a9
DTSTAMP:20260420T004700Z
LOCATION:6675 Tannheim
DESCRIPTION:
URL;VALUE=URI:
SUMMARY:Seen-Lauf Tannheimer Tal
DTSTART:20260528T230000Z
END:VEVENT
END:VCALENDAR
An internal server error occurred.