BEGIN:VCALENDAR
VERSION:2.0
PRODID:-//hacksw/handcal//NONSGML v1.0//EN
CALSCALE:GREGORIAN
BEGIN:VEVENT
DTEND:20260529T230000Z
UID:69ed19fe8f0f0
DTSTAMP:20260425T204606Z
LOCATION:370 01 České Budějovice
DESCRIPTION:
 

URL;VALUE=URI:
SUMMARY:Mattoni České Budějovice Running Festival - RunCzech
DTSTART:20260529T230000Z
END:VEVENT
END:VCALENDAR
An internal server error occurred.