BEGIN:VCALENDAR
VERSION:2.0
PRODID:-//hacksw/handcal//NONSGML v1.0//EN
CALSCALE:GREGORIAN
BEGIN:VEVENT
DTEND:20250627T230000Z
UID:69e988fed5206
DTSTAMP:20260423T035038Z
LOCATION:8061 St. Radegund
DESCRIPTION:
URL;VALUE=URI:
SUMMARY:1. schöcklHERO Mautstraßenlauf
DTSTART:20250627T230000Z
END:VEVENT
END:VCALENDAR
An internal server error occurred.