BEGIN:VCALENDAR
VERSION:2.0
PRODID:-//hacksw/handcal//NONSGML v1.0//EN
CALSCALE:GREGORIAN
BEGIN:VEVENT
DTEND:20250924T230000Z
UID:69e54fabcfe8f
DTSTAMP:20260419T225659Z
LOCATION:4020 Linz
DESCRIPTION:
URL;VALUE=URI:
SUMMARY:Linzer Sparkasse City Night Run
DTSTART:20250924T230000Z
END:VEVENT
END:VCALENDAR
An internal server error occurred.