BEGIN:VCALENDAR
VERSION:2.0
PRODID:-//hacksw/handcal//NONSGML v1.0//EN
CALSCALE:GREGORIAN
BEGIN:VEVENT
DTEND:20250618T230000Z
UID:69ed535872de4
DTSTAMP:20260426T005048Z
LOCATION:3830 Waidhofen an der Thaya
DESCRIPTION:
URL;VALUE=URI:
SUMMARY:Waidhofner Thayatal Triathlon
DTSTART:20250618T230000Z
END:VEVENT
END:VCALENDAR
An internal server error occurred.