BEGIN:VCALENDAR
VERSION:2.0
PRODID:-//hacksw/handcal//NONSGML v1.0//EN
CALSCALE:GREGORIAN
BEGIN:VEVENT
DTEND:20250515T230000Z
UID:69eb02c92b665
DTSTAMP:20260424T064233Z
LOCATION:7000 Eisenstadt
DESCRIPTION:
URL;VALUE=URI:
SUMMARY:Eisenstadtlauf
DTSTART:20250515T230000Z
END:VEVENT
END:VCALENDAR
An internal server error occurred.