BEGIN:VCALENDAR
VERSION:2.0
PRODID:-//hacksw/handcal//NONSGML v1.0//EN
CALSCALE:GREGORIAN
BEGIN:VEVENT
DTEND:20250906T230000Z
UID:69ed906c10d95
DTSTAMP:20260426T051124Z
LOCATION:2410 Hainburg an der Donau
DESCRIPTION:
URL;VALUE=URI:
SUMMARY:Braunsberglauf
DTSTART:20250906T230000Z
END:VEVENT
END:VCALENDAR
An internal server error occurred.