BEGIN:VCALENDAR
VERSION:2.0
PRODID:-//hacksw/handcal//NONSGML v1.0//EN
CALSCALE:GREGORIAN
BEGIN:VEVENT
DTEND:20250906T230000Z
UID:69ed906facbcd
DTSTAMP:20260426T051127Z
LOCATION:36037 Fulda
DESCRIPTION:
URL;VALUE=URI:
SUMMARY:Fulda Marathon
DTSTART:20250906T230000Z
END:VEVENT
END:VCALENDAR
An internal server error occurred.