BEGIN:VCALENDAR
VERSION:2.0
PRODID:-//hacksw/handcal//NONSGML v1.0//EN
CALSCALE:GREGORIAN
BEGIN:VEVENT
DTEND:20251108T230000Z
UID:69e74196f40e3
DTSTAMP:20260421T102126Z
LOCATION:St. Kilda\, Victoria

DESCRIPTION:
URL;VALUE=URI:
SUMMARY:IRONMAN 70.3 Melbourne
DTSTART:20251108T230000Z
END:VEVENT
END:VCALENDAR
An internal server error occurred.