BEGIN:VCALENDAR
VERSION:2.0
PRODID:-//hacksw/handcal//NONSGML v1.0//EN
CALSCALE:GREGORIAN
BEGIN:VEVENT
DTEND:20250929T230000Z
UID:69ed58a16391b
DTSTAMP:20260426T011321Z
LOCATION:1020 Wien
DESCRIPTION:
URL;VALUE=URI:
SUMMARY:SeniorInnen Nordic Walking Day
DTSTART:20250929T230000Z
END:VEVENT
END:VCALENDAR
An internal server error occurred.