BEGIN:VCALENDAR
VERSION:2.0
PRODID:-//hacksw/handcal//NONSGML v1.0//EN
CALSCALE:GREGORIAN
BEGIN:VEVENT
DTEND:20251018T230000Z
UID:69e741959aa15
DTSTAMP:20260421T102125Z
LOCATION:24782 Büdelsdorf
DESCRIPTION:
URL;VALUE=URI:
SUMMARY:Büdelsdorfer Eiderlauf
DTSTART:20251018T230000Z
END:VEVENT
END:VCALENDAR
An internal server error occurred.