BEGIN:VCALENDAR
VERSION:2.0
PRODID:-//hacksw/handcal//NONSGML v1.0//EN
CALSCALE:GREGORIAN
BEGIN:VEVENT
DTEND:20251011T230000Z
UID:69e716aa2a417
DTSTAMP:20260421T071818Z
LOCATION:Bukarest
DESCRIPTION:
URL;VALUE=URI:
SUMMARY:Bukarest Marathon
DTSTART:20251010T230000Z
END:VEVENT
END:VCALENDAR
An internal server error occurred.