BEGIN:VCALENDAR
VERSION:2.0
PRODID:-//hacksw/handcal//NONSGML v1.0//EN
CALSCALE:GREGORIAN
BEGIN:VEVENT
DTEND:20251011T230000Z
UID:69e6fdf571c37
DTSTAMP:20260421T053253Z
LOCATION:Eindhoven
DESCRIPTION:
URL;VALUE=URI:
SUMMARY:Marathon Eindhoven
DTSTART:20251010T230000Z
END:VEVENT
END:VCALENDAR
An internal server error occurred.