BEGIN:VCALENDAR
VERSION:2.0
PRODID:-//hacksw/handcal//NONSGML v1.0//EN
CALSCALE:GREGORIAN
BEGIN:VEVENT
DTEND:20251011T230000Z
UID:69e75d6b6bf49
DTSTAMP:20260421T122011Z
LOCATION:78199 Bräunlingen

DESCRIPTION:
URL;VALUE=URI:
SUMMARY:Schwarzwald-Marathon
DTSTART:20251010T230000Z
END:VEVENT
END:VCALENDAR
An internal server error occurred.