BEGIN:VCALENDAR
VERSION:2.0
PRODID:-//hacksw/handcal//NONSGML v1.0//EN
CALSCALE:GREGORIAN
BEGIN:VEVENT
DTEND:20251010T230000Z
UID:69e6de350ae51
DTSTAMP:20260421T031725Z
LOCATION:3652 Leiben
DESCRIPTION:
URL;VALUE=URI:
SUMMARY:WoidWetza Dirt Run
DTSTART:20251010T230000Z
END:VEVENT
END:VCALENDAR
An internal server error occurred.