BEGIN:VCALENDAR
VERSION:2.0
PRODID:-//hacksw/handcal//NONSGML v1.0//EN
CALSCALE:GREGORIAN
BEGIN:VEVENT
DTEND:20251004T230000Z
UID:69e6fdf3867fc
DTSTAMP:20260421T053251Z
LOCATION:50933 Köln
DESCRIPTION:
URL;VALUE=URI:
SUMMARY:Köln Marathon
DTSTART:20251004T230000Z
END:VEVENT
END:VCALENDAR
An internal server error occurred.