BEGIN:VCALENDAR
VERSION:2.0
PRODID:-//hacksw/handcal//NONSGML v1.0//EN
CALSCALE:GREGORIAN
BEGIN:VEVENT
DTEND:20251004T230000Z
UID:69e7701827c12
DTSTAMP:20260421T133952Z
LOCATION:Waco\, Texas
DESCRIPTION:
URL;VALUE=URI:
SUMMARY:IRONMAN 70.3 Waco
DTSTART:20251004T230000Z
END:VEVENT
END:VCALENDAR
An internal server error occurred.