BEGIN:VCALENDAR
VERSION:2.0
PRODID:-//hacksw/handcal//NONSGML v1.0//EN
CALSCALE:GREGORIAN
BEGIN:VEVENT
DTEND:20250925T230000Z
UID:69ecedbb4e13f
DTSTAMP:20260425T173715Z
LOCATION:83242 Reit im Winkl 
DESCRIPTION:
URL;VALUE=URI:
SUMMARY: Mountainman Reit im Winkl
DTSTART:20250925T230000Z
END:VEVENT
END:VCALENDAR
An internal server error occurred.