BEGIN:VCALENDAR
VERSION:2.0
PRODID:-//hacksw/handcal//NONSGML v1.0//EN
CALSCALE:GREGORIAN
BEGIN:VEVENT
DTEND:20251003T230000Z
UID:69eb0b6ed8b44
DTSTAMP:20260424T071926Z
LOCATION:1090 Wien
DESCRIPTION:
URL;VALUE=URI:
SUMMARY:Lauf für die Krebsforschung
DTSTART:20251003T230000Z
END:VEVENT
END:VCALENDAR
An internal server error occurred.