BEGIN:VCALENDAR
VERSION:2.0
PRODID:-//hacksw/handcal//NONSGML v1.0//EN
CALSCALE:GREGORIAN
BEGIN:VEVENT
DTEND:20250927T230000Z
UID:69e6d64386fa2
DTSTAMP:20260421T024331Z
LOCATION:Gurye\, Korea
DESCRIPTION:
URL;VALUE=URI:
SUMMARY:IRONMAN Gurye
DTSTART:20250927T230000Z
END:VEVENT
END:VCALENDAR
An internal server error occurred.