BEGIN:VCALENDAR
VERSION:2.0
PRODID:-//hacksw/handcal//NONSGML v1.0//EN
CALSCALE:GREGORIAN
BEGIN:VEVENT
DTEND:20250927T230000Z
UID:69e7419684e2e
DTSTAMP:20260421T102126Z
LOCATION:Augusta\, Georgia
DESCRIPTION:
URL;VALUE=URI:
SUMMARY:IRONMAN 70.3 Augusta
DTSTART:20250927T230000Z
END:VEVENT
END:VCALENDAR
An internal server error occurred.