BEGIN:VCALENDAR
VERSION:2.0
PRODID:-//hacksw/handcal//NONSGML v1.0//EN
CALSCALE:GREGORIAN
BEGIN:VEVENT
DTEND:20250919T230000Z
UID:69e812258014a
DTSTAMP:20260422T011117Z
LOCATION:Jones Beach\, New York
DESCRIPTION:
URL;VALUE=URI:
SUMMARY:IRONMAN 70.3 New York
DTSTART:20250919T230000Z
END:VEVENT
END:VCALENDAR
An internal server error occurred.