BEGIN:VCALENDAR
VERSION:2.0
PRODID:-//hacksw/handcal//NONSGML v1.0//EN
CALSCALE:GREGORIAN
BEGIN:VEVENT
DTEND:20250911T230000Z
UID:69e99522b3dbd
DTSTAMP:20260423T044226Z
LOCATION:5710 Kaprun
DESCRIPTION:
URL;VALUE=URI:
SUMMARY:Spartan Zell am See - Kaprun
DTSTART:20250911T230000Z
END:VEVENT
END:VCALENDAR
An internal server error occurred.