BEGIN:VCALENDAR
VERSION:2.0
PRODID:-//hacksw/handcal//NONSGML v1.0//EN
CALSCALE:GREGORIAN
BEGIN:VEVENT
DTEND:20250927T230000Z
UID:69e7701b13448
DTSTAMP:20260421T133955Z
LOCATION:3430 Tulln
DESCRIPTION:
URL;VALUE=URI:
SUMMARY:Tullner Lauftage Marathon
DTSTART:20250925T230000Z
END:VEVENT
END:VCALENDAR
An internal server error occurred.