BEGIN:VCALENDAR
VERSION:2.0
PRODID:-//hacksw/handcal//NONSGML v1.0//EN
CALSCALE:GREGORIAN
BEGIN:VEVENT
DTEND:20250920T230000Z
UID:69e7d9929458f
DTSTAMP:20260421T210954Z
LOCATION:Pembrokeshire\, Wales

DESCRIPTION:
URL;VALUE=URI:
SUMMARY:IRONMAN Wales
DTSTART:20250920T230000Z
END:VEVENT
END:VCALENDAR
An internal server error occurred.