BEGIN:VCALENDAR
VERSION:2.0
PRODID:-//hacksw/handcal//NONSGML v1.0//EN
CALSCALE:GREGORIAN
BEGIN:VEVENT
DTEND:20250920T230000Z
UID:69e93d31e6547
DTSTAMP:20260422T222713Z
LOCATION:Sāo Paulo
DESCRIPTION:
URL;VALUE=URI:
SUMMARY:IRONMAN 70.3 São Paulo
DTSTART:20250920T230000Z
END:VEVENT
END:VCALENDAR
An internal server error occurred.