BEGIN:VCALENDAR
VERSION:2.0
PRODID:-//hacksw/handcal//NONSGML v1.0//EN
CALSCALE:GREGORIAN
BEGIN:VEVENT
DTEND:20250920T230000Z
UID:69e73ac43cdf7
DTSTAMP:20260421T095220Z
LOCATION:Cozumel
DESCRIPTION:
URL;VALUE=URI:
SUMMARY:IRONMAN 70.3 Cozumel
DTSTART:20250920T230000Z
END:VEVENT
END:VCALENDAR
An internal server error occurred.