BEGIN:VCALENDAR
VERSION:2.0
PRODID:-//hacksw/handcal//NONSGML v1.0//EN
CALSCALE:GREGORIAN
BEGIN:VEVENT
DTEND:20250920T230000Z
UID:69e6d3b14951d
DTSTAMP:20260421T023233Z
LOCATION:21762 Otterndorf
DESCRIPTION:
URL;VALUE=URI:
SUMMARY:Küstenmarathon
DTSTART:20250920T230000Z
END:VEVENT
END:VCALENDAR
An internal server error occurred.