BEGIN:VCALENDAR
VERSION:2.0
PRODID:-//hacksw/handcal//NONSGML v1.0//EN
CALSCALE:GREGORIAN
BEGIN:VEVENT
DTEND:20250920T230000Z
UID:69e92cb4bd5b8
DTSTAMP:20260422T211652Z
LOCATION:Richland\, Washington
DESCRIPTION:
URL;VALUE=URI:
SUMMARY:IRONMAN 70.3 Washington Tri-Cities
DTSTART:20250920T230000Z
END:VEVENT
END:VCALENDAR
An internal server error occurred.