BEGIN:VCALENDAR
VERSION:2.0
PRODID:-//hacksw/handcal//NONSGML v1.0//EN
CALSCALE:GREGORIAN
BEGIN:VEVENT
DTEND:20250919T230000Z
UID:69e720fc0ae93
DTSTAMP:20260421T080220Z
LOCATION:Cambridge\, Maryland
DESCRIPTION:
URL;VALUE=URI:
SUMMARY:IRONMAN Maryland
DTSTART:20250919T230000Z
END:VEVENT
END:VCALENDAR
An internal server error occurred.