BEGIN:VCALENDAR
VERSION:2.0
PRODID:-//hacksw/handcal//NONSGML v1.0//EN
CALSCALE:GREGORIAN
BEGIN:VEVENT
DTEND:20250913T230000Z
UID:69e972c68e0f6
DTSTAMP:20260423T021550Z
LOCATION:Frankfort\, Michigan
DESCRIPTION:
URL;VALUE=URI:
SUMMARY:IRONMAN 70.3 Michigan
DTSTART:20250913T230000Z
END:VEVENT
END:VCALENDAR
An internal server error occurred.