BEGIN:VCALENDAR
VERSION:2.0
PRODID:-//hacksw/handcal//NONSGML v1.0//EN
CALSCALE:GREGORIAN
BEGIN:VEVENT
DTEND:20250913T230000Z
UID:69e972c147e98
DTSTAMP:20260423T021545Z
LOCATION:Dorset\, England
DESCRIPTION:
URL;VALUE=URI:
SUMMARY:IRONMAN 70.3 Weymouth
DTSTART:20250913T230000Z
END:VEVENT
END:VCALENDAR
An internal server error occurred.